BEGIN:VCALENDAR
VERSION:2.0
X-WR-TIMEZONE:Europe/Paris
CALSCALE:GREGORIAN
PRODID:-//SPIP/Plugin Agenda//NONSGML v1.0//FR
X-WR-CALNAME;VALUE=TEXT:Sundep-Solidaires Paris SUD Enseignement privé -- Agenda
X-WR-CALDESC:Site du Sundep-Solidaires Paris SUD Enseignement privé
X-WR-RELCALID:https://www.sundep-paris.org
BEGIN:VEVENT
SUMMARY:27 octobre 2025 : projection du documentaire « This Jungo life »
UID:evenement63 @ https://www.sundep-paris.org
DTSTAMP:20260421T220000Z
DTSTART:20251027T190000Z
DTEND:20251027T220000Z
CREATED:20260421T220000Z
LAST-MODIFIED:20260421T220000Z 
LOCATION:Cinéma les 7 Parnassiens
CATEGORIES:27 octobre 2025 : projection du documentaire « This Jungo life »
URL:https://sundep-paris.org/27-octobre-2025-projection-du-documentaire-This-Jungo-life?id_evenement=63
SEQUENCE:0

STATUS:CONFIRMED
END:VEVENT
END:VCALENDAR