BEGIN:VCALENDAR
VERSION:2.0
X-WR-TIMEZONE:Europe/Paris
CALSCALE:GREGORIAN
PRODID:-//SPIP/Plugin Agenda//NONSGML v1.0//FR
X-WR-CALNAME;VALUE=TEXT:Sundep-Solidaires Paris SUD Enseignement privé -- Agenda
X-WR-CALDESC:Site du Sundep-Solidaires Paris SUD Enseignement privé
X-WR-RELCALID:https://www.sundep-paris.org
BEGIN:VEVENT
SUMMARY:L'Évangile de la révolution : un film de Francois Xavier DROUET
UID:evenement56 @ https://www.sundep-paris.org
DTSTAMP:20260422T220000Z
DTSTART:20250923T183000Z
DTEND:20250923T210000Z
CREATED:20260422T220000Z
LAST-MODIFIED:20260422T220000Z 
LOCATION:Cinéma Chaplin Saint-Lambert
CATEGORIES:L'Évangile de la révolution : un film de Francois Xavier DROUET
URL:https://sundep-paris.org/L-E%CC%81vangile-de-la-re%CC%81volution-un-film-de-Francois-Xavier?id_evenement=56
SEQUENCE:2

STATUS:CONFIRMED
END:VEVENT
END:VCALENDAR