BEGIN:VCALENDAR
VERSION:2.0
X-WR-TIMEZONE:Europe/Paris
CALSCALE:GREGORIAN
PRODID:-//SPIP/Plugin Agenda//NONSGML v1.0//FR
X-WR-CALNAME;VALUE=TEXT:Sundep-Solidaires Paris SUD Enseignement privé -- Agenda
X-WR-CALDESC:Site du Sundep-Solidaires Paris SUD Enseignement privé
X-WR-RELCALID:https://www.sundep-paris.org
BEGIN:VEVENT
SUMMARY:Université des mouvements sociaux et des solidarités (UEMSS) du 23 au 26 août 2025
UID:evenement46 @ https://www.sundep-paris.org
DTSTAMP:20260422T220000Z
DTSTART:20250823T070000Z
DTEND:20250826T210000Z
CREATED:20260422T220000Z
LAST-MODIFIED:20260422T220000Z 
LOCATION:Campus Peixotto de l’Université de Bordeaux.
CATEGORIES:Université des mouvements sociaux et des solidarités (UEMSS) du 23 au 26 août 2025 à Bordeaux
URL:https://sundep-paris.org/Universite-des-mouvements-sociaux-et-des-solidarites-UEMSS?id_evenement=46
SEQUENCE:0

STATUS:CONFIRMED
END:VEVENT
END:VCALENDAR